BEGIN:VCALENDAR
VERSION:2.0
PRODID:-//ChamberMaster//Event Calendar 2.0//EN
METHOD:PUBLISH
X-PUBLISHED-TTL:P3D
REFRESH-INTERVAL:P3D
CALSCALE:GREGORIAN
BEGIN:VEVENT
DTSTART:20260422T150000Z
DTEND:20260422T180000Z
X-MICROSOFT-CDO-ALLDAYEVENT:FALSE
SUMMARY:Women's LIFT 2026
DESCRIPTION:Women's LIFT is an annual event created to bring women together for connection\, learning\, and growth. Designed by women\, for women\, the program evolves each year to reflect the voices\, experiences\, and ideas of those shaping it.\n\n\n\nThrough meaningful conversations\, hands-on experiences\, and opportunities to build community\, Women's LIFT encourages participants to reflect on their strengths\, support one another\, and leave feeling inspired and empowered.\n\n\n\nWhether you're attending for the first time or returning year after year\, Women's LIFT offers a welcoming space to connect\, share\, and grow together.\n\n\n\nThis event fills up quickly every year\, so be sure to secure your spot early!\n\n\n\nStay tuned for more details we can't wait to share what's in store for 2026.\n\n\n\nSee sponsorship opportunities here\, or reach out to Sarah at events@culpeperchamber.com
X-ALT-DESC;FMTTYPE=text/html:<p data-end="108" data-start="67"><strong>Women&rsquo\;s LIFT </strong>is an annual event created to bring women together for connection\, learning\, and growth. Designed by women\, for women\, the program evolves each year to reflect the voices\, experiences\, and ideas of those shaping it.<br />\n<br />\nThrough meaningful conversations\, hands-on experiences\, and opportunities to build community\, Women&rsquo\;s LIFT encourages participants to reflect on their strengths\, support one another\, and leave feeling inspired and empowered.<br />\n<br />\nWhether you&rsquo\;re attending for the first time or returning year after year\, Women&rsquo\;s LIFT offers a welcoming space to connect\, share\, and grow together.<br />\n<br />\nThis event fills up quickly every year\, so be sure to secure your spot early!<br />\n<br />\nStay tuned for more details&mdash\;we can&rsquo\;t wait to share what&rsquo\;s in store for 2026.<br />\n<br />\nSee sponsorship opportunities <a href="https://culpeperchamber.com/wp-content/uploads/2026/01/Sponsorship-Womens-Lift.pdf" target="_blank">here</a>\, or reach out to Sarah at <a href="mailto:events@culpeperchamber.com?subject=Women's%20Lift%20Sponsorship%20Opportunities&amp\;body=Hi%20Sarah%2C%0A%0APlease%20tell%20me%20more%20about%20how%20to%20become%20a%20Women's%20Lift%20sponsor!">events@culpeperchamber.com</a></p>\n
LOCATION:Prince Michel Vineyard & Winery 154 Winery Lane Leon\, VA
UID:e.431.65662
SEQUENCE:3
DTSTAMP:20260424T223453Z
URL:http://culpeperdev.chambermaster.com/events/details/women-s-lift-2026-65662
END:VEVENT

END:VCALENDAR
