BEGIN:VCALENDAR
VERSION:2.0
PRODID:-//ChamberMaster//Event Calendar 2.0//EN
METHOD:PUBLISH
X-PUBLISHED-TTL:P3D
REFRESH-INTERVAL:P3D
CALSCALE:GREGORIAN
BEGIN:VEVENT
DTSTART:20321118T130000Z
DTEND:20321118T140000Z
X-MICROSOFT-CDO-ALLDAYEVENT:FALSE
SUMMARY:Thursday Morning Leadshare
DESCRIPTION:Connect\, collaborate\, and grow your business with like-minded professionals!\n\nOur group meets on the first and third Thursdays to exchange leads\, share insights\, and support each other's success. Start your morning with meaningful networking.\n\nBuild relationships. Gain referrals. Grow together.
X-ALT-DESC;FMTTYPE=text/html:<p data-end="436" data-start="189"><strong data-end="269" data-start="189">Connect\, collaborate\, and grow your business with like-minded professionals!</strong><br data-end="272" data-start="269" />\nOur group meets on the first and third Thursdays to exchange leads\, share insights\, and support each other&rsquo\;s success. Start your morning with meaningful networking.</p>\n\n<p data-end="493" data-start="438"><strong data-end="493" data-start="438">Build relationships. Gain referrals. Grow together.</strong></p>\n
LOCATION:
UID:e.431.61079
SEQUENCE:3
DTSTAMP:20260424T065824Z
URL:http://culpeperdev.chambermaster.com/events/details/thursday-morning-leadshare-11-18-2032-61079
END:VEVENT

END:VCALENDAR
